BEGIN:VCALENDAR
VERSION:2.0
PRODID:TU Chemnitz
METHOD:PUBLISH
X-WR-CALNAME:Veranstaltungen der TU Chemnitz
X-WR-TIMEZONE:Europe/Berlin
BEGIN:VEVENT
CLASS:PUBLIC
DTSTART;TZID="Europe/Berlin":20100708T153000
DTEND;TZID="Europe/Berlin":20100708T180000
LOCATION:Str. der Nationen 62\, Chemnitz (Böttcher-Bau)
SUMMARY:GDCh - Vortrag: "Quantenchemie in der flüssigen Phase: Von großen Systemen und teuren Rechenmethoden" (Fakultät für Naturwissenschaften\, Institut für Chemie zusammen mit der Gesellschaft Deutscher Chemiker (GDCh))
DESCRIPTION:Prof. Dr. Barbara Kirchner\, Wilhelm-Ostwald Institut für Physikalische und Theoretische Chemie Leipzig\nProf. Dr. Heinrich Lang\, Tel.: 0371/531-21210\, heinrich.lang@chemie.tu-chemnitz.de
ORGANIZER:MAILTO:viola.helmert@chemie.tu-chemnitz.de
UID:12101@www.tu-chemnitz.de
CREATED:20100208T133200Z
DTSTAMP:20210802T193112Z
END:VEVENT
END:VCALENDAR
