BEGIN:VCALENDAR
VERSION:2.0
PRODID:TU Chemnitz
METHOD:PUBLISH
X-WR-CALNAME:Veranstaltungen der TU Chemnitz
X-WR-TIMEZONE:Europe/Berlin
BEGIN:VEVENT
CLASS:PUBLIC
DTSTART;TZID="Europe/Berlin":20100624T153000
DTEND;TZID="Europe/Berlin":20100624T180000
LOCATION:Str. der Nationen 62\, Chemnitz (Böttcher-Bau)
SUMMARY:GDCh - Vortrag: "Synthesen und Eigenschaften von Bauelementen für Lichtgesteuerte Funktionsmoleküle" (Fakultät für Naturwissenschaften\, Institut für Chemie zusammen mit der Gesellschaft Deutscher Chemiker (GDCh))
DESCRIPTION:Prof. Dr. Karola Rück-Braun\, Technische Universität Berlin\nProf. Dr. Heinrich Lang\, Tel.: 0371/531-21210\, heinrich.lang@chemie.tu-chemnitz.de
ORGANIZER:MAILTO:viola.helmert@chemie.tu-chemnitz.de
UID:12100@www.tu-chemnitz.de
CREATED:20100208T132800Z
DTSTAMP:20210802T193141Z
END:VEVENT
END:VCALENDAR
