BEGIN:VCALENDAR
VERSION:2.0
PRODID:TU Chemnitz
METHOD:PUBLISH
X-WR-CALNAME:Veranstaltungen der TU Chemnitz
X-WR-TIMEZONE:Europe/Berlin
BEGIN:VEVENT
CLASS:PUBLIC
DTSTART;TZID="Europe/Berlin":19981021T193000
DTEND;TZID="Europe/Berlin":19981021T193000
LOCATION:Uni-Teil 3: Reichenhainer Str. 55\, Chemnitz (Mensa)
SUMMARY:Semesterauftaktmensa (Studentenrat)
DESCRIPTION:Band: 44 Leningrad<br>\nFilm: <a href="http://www.tu-chemnitz.de/stud/club/mittendrin/filme/rettesichwerkann.html">Rette sich wer kann!</a><br>\nBeginn: 19.30 Uhr<br>\nDisco: 00.30 Uhr<br>\nEintritt: 5 DM \n
ORGANIZER:MAILTO:chu@hrz.tu-chemnitz.de
UID:121@www.tu-chemnitz.de
CREATED:19981014T202500Z
DTSTAMP:20210802T203601Z
END:VEVENT
END:VCALENDAR
