BEGIN:VCALENDAR
VERSION:2.0
PRODID:TU Chemnitz
METHOD:PUBLISH
X-WR-CALNAME:Veranstaltungen der TU Chemnitz
X-WR-TIMEZONE:Europe/Berlin
BEGIN:VEVENT
CLASS:PUBLIC
DTSTART;TZID="Europe/Berlin":20100127T210000
DTEND;TZID="Europe/Berlin":20100128T030000
LOCATION:Reichenhainer Str. 35/37\, Chemnitz (Studentenwohnheim)
SUMMARY:Indie Rock Night
DESCRIPTION:Indie Rock vom Feinsten mixed by DJ Mike Eintritt frei\nhttp://www.tu-chemnitz.de/stud/club/peb/web/
ORGANIZER:MAILTO:stefanie.fischer@s2003.tu-chemnitz.de
UID:12080@www.tu-chemnitz.de
CREATED:20100127T122300Z
DTSTAMP:20210802T193411Z
END:VEVENT
END:VCALENDAR
