BEGIN:VCALENDAR
VERSION:2.0
PRODID:TU Chemnitz
METHOD:PUBLISH
X-WR-CALNAME:Veranstaltungen der TU Chemnitz
X-WR-TIMEZONE:Europe/Berlin
BEGIN:VEVENT
CLASS:PUBLIC
DTSTART;TZID="Europe/Berlin":20100128T190000
DTEND;TZID="Europe/Berlin":20100128T210000
LOCATION:Reichenhainer Str. 70\, Chemnitz (Rühlmann-Bau)
SUMMARY: BERTOLT BRECHT UND SEINE IDEEN (Rote Hochschulgruppe Chemnitz)
DESCRIPTION:"...denn alle Kreatur braucht Hilf von allen!" Eine Lesung mit Musik in vier Kapiteln und einem Prolog\, anschließende Diskussion gewünscht. Diese Lesung will die Gedankenwelt von Bertolt Brecht aufzeigen. In einer Zeit\, in welc...\nMike Melzer\nrhg@hush.com
ORGANIZER:MAILTO:thomas.rohde@s2000.tu-chemnitz.de
UID:12077@www.tu-chemnitz.de
CREATED:20100123T195700Z
DTSTAMP:20210802T193412Z
END:VEVENT
END:VCALENDAR
