BEGIN:VCALENDAR
VERSION:2.0
PRODID:TU Chemnitz
METHOD:PUBLISH
X-WR-CALNAME:Veranstaltungen der TU Chemnitz
X-WR-TIMEZONE:Europe/Berlin
BEGIN:VEVENT
CLASS:PUBLIC
DTSTART;TZID="Europe/Berlin":20100122T220000
DTEND;TZID="Europe/Berlin":20100123T030000
LOCATION:Reichenhainer Str. 35/37\, Chemnitz (Studentenwohnheim)
SUMMARY:Electronic Night (TU Chemnitz)
DESCRIPTION:für Studenten: Eintritt frei\nNichtstudenten: 2€\nArtist: DJ Handklang (amplidudez)\nSupport: DJ MINIMALISTIC (SWR)\nSpecial: Kreationen aus Schwarzer Dose\nhttp://www.tu-chemnitz.de/stud/club/peb
ORGANIZER:MAILTO:ronny.goehler@s2004.tu-chemnitz.de
UID:12062@www.tu-chemnitz.de
CREATED:20100114T155800Z
DTSTAMP:20210802T193410Z
END:VEVENT
END:VCALENDAR
