BEGIN:VCALENDAR
VERSION:2.0
PRODID:TU Chemnitz
METHOD:PUBLISH
X-WR-CALNAME:Veranstaltungen der TU Chemnitz
X-WR-TIMEZONE:Europe/Berlin
BEGIN:VEVENT
CLASS:PUBLIC
DTSTART;TZID="Europe/Berlin":20100115T210000
DTEND;TZID="Europe/Berlin":20100116T030000
LOCATION:Reichenhainer Str. 35/37\, Chemnitz (Studentenwohnheim)
SUMMARY:Classic Rock Night
DESCRIPTION:Eintritt frei\nhttp://www.tu-chemnitz.de/stud/club/peb
ORGANIZER:MAILTO:ronny.goehler@s2004.tu-chemnitz.de
UID:12060@www.tu-chemnitz.de
CREATED:20100114T154500Z
DTSTAMP:20210802T193402Z
END:VEVENT
END:VCALENDAR
