BEGIN:VCALENDAR
VERSION:2.0
PRODID:TU Chemnitz
METHOD:PUBLISH
X-WR-CALNAME:Veranstaltungen der TU Chemnitz
X-WR-TIMEZONE:Europe/Berlin
BEGIN:VEVENT
CLASS:PUBLIC
DTSTART;TZID="Europe/Berlin":20100128T153000
DTEND;TZID="Europe/Berlin":20100128T170000
LOCATION:Thüringer Weg 3\, Zwergencampus
SUMMARY:Informationsveranstaltung "Studieren mit Kind" (TU Chemnitz\, Projekt Familiengerechte Hochschule)
DESCRIPTION:Dr. Renate Wißuwa\nDr. Renate Wißuwa\, Tel. 31221\,renate.wissuwa@verwaltung.tu-chemnitz.de
ORGANIZER:MAILTO:renate.wissuwa@verwaltung.tu-chemnitz.de
UID:12053@www.tu-chemnitz.de
CREATED:20100111T172100Z
DTSTAMP:20210802T193401Z
END:VEVENT
END:VCALENDAR
