BEGIN:VCALENDAR
VERSION:2.0
PRODID:TU Chemnitz
METHOD:PUBLISH
X-WR-CALNAME:Veranstaltungen der TU Chemnitz
X-WR-TIMEZONE:Europe/Berlin
BEGIN:VEVENT
CLASS:PUBLIC
DTSTART;TZID="Europe/Berlin":20100112T113000
DTEND;TZID="Europe/Berlin":20100112T130000
LOCATION:Wilhelm-Raabe-Str. 43\, Chemnitz
SUMMARY:"Der Einigungsvertrag 1990" (im Rahmen der Vorlesung "Einführung in das politische System der Bundesrepublik Deutschland") (Philosophische Fakultät\, Professur für Politische Systeme\, politische Institutionen (Professurinhaber: Prof. Dr. Eckhard Jesse))
DESCRIPTION:Prof. Dr.-Ing. habil. GÜNTHER KRAUSE (Verhandlungsführer der DDR beim Einigungsvertrag\, Bundesverkehrsminister a.D.)\nDer Vortrag ist kostenlos und öffentlich. Eine Anmeldung ist nicht erforderlich.
ORGANIZER:MAILTO:daniel.rennert@phil.tu-chemnitz.de
UID:12040@www.tu-chemnitz.de
CREATED:20100106T134500Z
DTSTAMP:20210802T193414Z
END:VEVENT
END:VCALENDAR
