BEGIN:VCALENDAR
VERSION:2.0
PRODID:TU Chemnitz
METHOD:PUBLISH
X-WR-CALNAME:Veranstaltungen der TU Chemnitz
X-WR-TIMEZONE:Europe/Berlin
BEGIN:VEVENT
CLASS:PUBLIC
DTSTART;TZID="Europe/Berlin":20100224T173000
DTEND;TZID="Europe/Berlin":20100224T190000
LOCATION:Str. der Nationen 62\, Chemnitz (Böttcher-Bau)
SUMMARY:Medizin im Spannungsfeld zwischen Wissenschaft und Gesellschaft (TU Chemnitz\, Klinikum Chemnitz gGmbH)
DESCRIPTION:"Die Schwerhörigkeit und Ihre Behandlung"\nProf. Dr. med. habil. Jens Oeken\nProf. Dr. Johannes Schweizer\, Tel.: 0371 - 333 42 500
ORGANIZER:MAILTO:stephanie.kraemer@verwaltung.tu-chemnitz.de
UID:12035@www.tu-chemnitz.de
CREATED:20100105T135200Z
DTSTAMP:20210802T193340Z
END:VEVENT
END:VCALENDAR
