BEGIN:VCALENDAR
VERSION:2.0
PRODID:TU Chemnitz
METHOD:PUBLISH
X-WR-CALNAME:Veranstaltungen der TU Chemnitz
X-WR-TIMEZONE:Europe/Berlin
BEGIN:VEVENT
CLASS:PUBLIC
DTSTART;TZID="Europe/Berlin":20100203T190000
DTEND;TZID="Europe/Berlin":20100203T213000
LOCATION:Reichenhainer Str. 90\, Chemnitz (Zentr. Hörsaal- und Seminargebäude)
SUMMARY:ET NON SIT TIBI CURA QUIS DICAT\, SED QUID DICATUR. Kleine Gebrauchsgeschichte eines Seneca-Zitats. (Philosophische Fakultät)
DESCRIPTION:Antrittsvorlesung der Professur Deutsche Literatur- und Sprachgeschichte des Mittelalters und der Frühen Neuzeit.\n\nDie interessierte Öffentlichkeit ist herzlich eingeladen!\nProf. Dr. Christoph Fasbender\, TU Chemnitz\nkarla.kebsch@phil.tu-chemnitz\,de
ORGANIZER:MAILTO:karla.kebsch@phil.tu-chemnitz.de
UID:12029@www.tu-chemnitz.de
CREATED:20100104T150300Z
DTSTAMP:20210802T193342Z
END:VEVENT
END:VCALENDAR
