BEGIN:VCALENDAR
VERSION:2.0
PRODID:TU Chemnitz
METHOD:PUBLISH
X-WR-CALNAME:Veranstaltungen der TU Chemnitz
X-WR-TIMEZONE:Europe/Berlin
BEGIN:VEVENT
CLASS:PUBLIC
DTSTART;TZID="Europe/Berlin":20100126T210000
DTEND;TZID="Europe/Berlin":20100126T230000
LOCATION:Kino\, Reichenhainer Str. 35/37\, Keller
SUMMARY:[Campuskino * "mittendrin"] This is love (filmclub »mittendrin«)
DESCRIPTION:Reizthema Pädophilie - ein verstörender Blick ins Herz der Finsternis\nfilmclub@tu-chemnitz.de
ORGANIZER:MAILTO:robert.gerstenberger@s2004.tu-chemnitz.de
UID:12026@www.tu-chemnitz.de
CREATED:20100101T152200Z
DTSTAMP:20210802T193411Z
END:VEVENT
END:VCALENDAR
