BEGIN:VCALENDAR
VERSION:2.0
PRODID:TU Chemnitz
METHOD:PUBLISH
X-WR-CALNAME:Veranstaltungen der TU Chemnitz
X-WR-TIMEZONE:Europe/Berlin
BEGIN:VEVENT
CLASS:PUBLIC
DTSTART;TZID="Europe/Berlin":20091215T171500
DTEND;TZID="Europe/Berlin":20091215T184500
LOCATION:Wilhelm-Raabe-Str. 43\, Chemnitz
SUMMARY:"Optimierung der Anderen? - Das religiöse Selbst im Zeichen christlicher Mission." (Philosophische Fakultät\, Interkulturelle Kommunikation)
DESCRIPTION:Maik Arnold\nArne Weidemann\, arne.weidemann@phil.tu-chemnitz.de
ORGANIZER:MAILTO:corina.markert@phil.tu-chemnitz.de
UID:12013@www.tu-chemnitz.de
CREATED:20091211T125700Z
DTSTAMP:20210802T193431Z
END:VEVENT
END:VCALENDAR
