BEGIN:VCALENDAR
VERSION:2.0
PRODID:TU Chemnitz
METHOD:PUBLISH
X-WR-CALNAME:Veranstaltungen der TU Chemnitz
X-WR-TIMEZONE:Europe/Berlin
BEGIN:VEVENT
CLASS:PUBLIC
DTSTART;TZID="Europe/Berlin":20091215T171500
DTEND;TZID="Europe/Berlin":20091215T184500
LOCATION:Wilhelm-Raabe-Str. 43\, Chemnitz
SUMMARY:Optimierung der Anderen? – Das religiöse Selbst im Zeichen christlicher Mission (Philosophische Fakultät\, IfGK\, Professur für Interkulturelle Kommunikation)
DESCRIPTION:Diese Veranstaltungsreihe des Masterstudiengang "Interkulturelle Kommunikation - Interkulturelle Kompetenz" bietet Einblicke in die interkulturelle Forschung\, Möglichkeiten zum Kennenlernen und intensiven Austausch.\nDipl.-Kfm. Maik Arnold\, TU Chemnitz\nmaik.arnold@phil.tu-chemnitz.de
ORGANIZER:MAILTO:maik.arnold@phil.tu-chemnitz.de
UID:12012@www.tu-chemnitz.de
CREATED:20091210T232700Z
DTSTAMP:20210802T193437Z
END:VEVENT
END:VCALENDAR
