BEGIN:VCALENDAR
VERSION:2.0
PRODID:TU Chemnitz
METHOD:PUBLISH
X-WR-CALNAME:Veranstaltungen der TU Chemnitz
X-WR-TIMEZONE:Europe/Berlin
BEGIN:VEVENT
CLASS:PUBLIC
DTSTART;TZID="Europe/Berlin":20091215T151500
DTEND;TZID="Europe/Berlin":20091215T160000
LOCATION:Hörsaal 1/153 (Eingang Universitätsbibliothek\, Bahnhofstraße)
SUMMARY:Vortrag im Rahmen des Berufungsverfahrens Technische Chemie "Innovative Methoden und Nachhaltigkeit von Prozessen - Neue Herausforderungen in der Technischen Chemie" (Fakultät für Naturwissenschaften\, Institut für Chemie)
DESCRIPTION:Frau Dr. Cornelia Breitkopf (Universität München)\nProf. Mehring\, 531 35128\, michael.mehring@chemie.tu-chemnitz.de
ORGANIZER:MAILTO:mandy.gruner@chemie.tu-chemnitz.de
UID:12006@www.tu-chemnitz.de
CREATED:20091209T095500Z
DTSTAMP:20210802T193438Z
END:VEVENT
END:VCALENDAR
