BEGIN:VCALENDAR
VERSION:2.0
PRODID:TU Chemnitz
METHOD:PUBLISH
X-WR-CALNAME:Veranstaltungen der TU Chemnitz
X-WR-TIMEZONE:Europe/Berlin
BEGIN:VEVENT
CLASS:PUBLIC
DTSTART;TZID="Europe/Berlin":20100427T080000
DTEND;TZID="Europe/Berlin":20100427T173000
LOCATION:Reichenhainer Str. 90\, Chemnitz (Zentr. Hörsaal- und Seminargebäude)
SUMMARY:SAXSIM - SAXON SIMULATION MEETING (Fakultät für Maschinenbau\, Professur Montage- und Handhabungstechnik)
DESCRIPTION:2. Pro/E-Simulationsanwendertreffen an der TU Chemnitz für Spezialisten\, Anwender und Studenten sowie Preisverleihung des 2.Studentenwettbewerbs\nProf. Dr.-Ing. Maik Berger; maik.berger@mb.tu-chemnitz.de
ORGANIZER:MAILTO:maik.berger@mb.tu-chemnitz.de
UID:11999@www.tu-chemnitz.de
CREATED:20091207T121300Z
DTSTAMP:20210802T193315Z
END:VEVENT
END:VCALENDAR
