BEGIN:VCALENDAR
VERSION:2.0
PRODID:TU Chemnitz
METHOD:PUBLISH
X-WR-CALNAME:Veranstaltungen der TU Chemnitz
X-WR-TIMEZONE:Europe/Berlin
BEGIN:VEVENT
CLASS:PUBLIC
DTSTART;TZID="Europe/Berlin":20091210T160000
DTEND;TZID="Europe/Berlin":20091210T170000
LOCATION:Reichenhainer Str. 70\, Chemnitz (Neues Physikgebäude)
SUMMARY:Thermotropic biaxial nematic phase in single and multi-component systems (Fakultät für Naturwissenschaften\, Institut für Chemie und Institut für Physik)
DESCRIPTION:Satyendra Kumar\, Kent State University\, USA\nJuniorprofessor Dr. Matthias Lehmann\, Tel. 0371 531 31205\, matthias.lehmann@chemie.tu-chemnitz.de
ORGANIZER:MAILTO:matthias.lehmann@chemie.tu-chemnitz.de
UID:11991@www.tu-chemnitz.de
CREATED:20091202T152800Z
DTSTAMP:20210802T193438Z
END:VEVENT
END:VCALENDAR
