BEGIN:VCALENDAR
VERSION:2.0
PRODID:TU Chemnitz
METHOD:PUBLISH
X-WR-CALNAME:Veranstaltungen der TU Chemnitz
X-WR-TIMEZONE:Europe/Berlin
BEGIN:VEVENT
CLASS:PUBLIC
DTSTART;TZID="Europe/Berlin":20091203T200000
DTEND;TZID="Europe/Berlin":20091203T220000
LOCATION:Str. der Nationen 62\, Chemnitz (Altes Heizhaus)
SUMMARY:Uran für Moskau - Das Erzgebirge im Brennpunkt der Weltpolitik (AgricolaFORUM Chemnitz)
DESCRIPTION:1947 begann im Erzgebirge die Suche nach Uran\, Rohstoff für Atombomben und  Waffe im Kalten Krieg. Dr. Karlsch zählt zu den profunden Kennern dieser beeindruckenden Entwicklung und wird über brisante Details seiner Forschungsarbeiten berichten.\nDr. Rainer Karlsch\, Berlin\nhttp://www.agricolaforum.de/
ORGANIZER:MAILTO:friedrich.naumann@phil.tu-chemnitz.de
UID:11986@www.tu-chemnitz.de
CREATED:20091201T094800Z
DTSTAMP:20210802T193432Z
END:VEVENT
END:VCALENDAR
