BEGIN:VCALENDAR
VERSION:2.0
PRODID:TU Chemnitz
METHOD:PUBLISH
X-WR-CALNAME:Veranstaltungen der TU Chemnitz
X-WR-TIMEZONE:Europe/Berlin
BEGIN:VEVENT
CLASS:PUBLIC
DTSTART;TZID="Europe/Berlin":20091210T153000
DTEND;TZID="Europe/Berlin":20091210T170000
LOCATION:Reichenhainer Str. 90\, Chemnitz (Zentr. Hörsaal- und Seminargebäude)
SUMMARY:Einladung zum Kolloquium - Solid Edge with Synchronous Technology 2 (TU Chemnitz\, Fakultät Maschinenbau\, Professur Konstruktionslehre)
DESCRIPTION:Meilenstein für die digitale Produktentwicklung\nNeues in Solid Edge ST 2\nDr.-Ing. Lutz Klingbeil\, PROCIM Systemtechnik GmbH\nDipl.-Ing. M. Curschmann\, 0371/531 35127\, Michael.Curschmann@mb.tu-chemnitz.de
ORGANIZER:MAILTO:franziska.held@mb.tu-chemnitz.de
UID:11984@www.tu-chemnitz.de
CREATED:20091130T140700Z
DTSTAMP:20210802T193431Z
END:VEVENT
END:VCALENDAR
