BEGIN:VCALENDAR
VERSION:2.0
PRODID:TU Chemnitz
METHOD:PUBLISH
X-WR-CALNAME:Veranstaltungen der TU Chemnitz
X-WR-TIMEZONE:Europe/Berlin
BEGIN:VEVENT
CLASS:PUBLIC
DTSTART;TZID="Europe/Berlin":20100119T160000
DTEND;TZID="Europe/Berlin":20100119T230000
LOCATION:Skihang Augustusburg
SUMMARY:2. Wintersportfest - "Winterolympiade" (Universitätssportzentrum\, Institut Sportwissenschaft)
DESCRIPTION:Ab dem 13. 01. 2010 kannst du dich anmelden. Wo genau wird vorher noch bekannt gegeben!
ORGANIZER:MAILTO:julia.zimmermann@s2009.tu-chemnitz.de
UID:11983@www.tu-chemnitz.de
CREATED:20091130T113700Z
DTSTAMP:20210802T193410Z
END:VEVENT
END:VCALENDAR
