BEGIN:VCALENDAR
VERSION:2.0
PRODID:TU Chemnitz
METHOD:PUBLISH
X-WR-CALNAME:Veranstaltungen der TU Chemnitz
X-WR-TIMEZONE:Europe/Berlin
BEGIN:VEVENT
CLASS:PUBLIC
DTSTART;TZID="Europe/Berlin":20091215T210000
DTEND;TZID="Europe/Berlin":20091215T230000
LOCATION:Kino\, Reichenhainer Str. 35/37\, Keller
SUMMARY:[Campuskino * "mittendrin"] Durst (filmclub »mittendrin«)
DESCRIPTION:Katholische Vampire leiden schöner. Nach seiner Rachetrilogie wendet sich Kultregisseur Park Chan-wook dem Vampirgenre zu. Ein intensives Filmerlebnis\, das lange nachwirkt.\nfilmclub@tu-chemnitz.de
ORGANIZER:MAILTO:robert.gerstenberger@s2004.tu-chemnitz.de
UID:11980@www.tu-chemnitz.de
CREATED:20091129T142700Z
DTSTAMP:20210802T193439Z
END:VEVENT
END:VCALENDAR
