BEGIN:VCALENDAR
VERSION:2.0
PRODID:TU Chemnitz
METHOD:PUBLISH
X-WR-CALNAME:Veranstaltungen der TU Chemnitz
X-WR-TIMEZONE:Europe/Berlin
BEGIN:VEVENT
CLASS:PUBLIC
DTSTART;TZID="Europe/Berlin":20091208T210000
DTEND;TZID="Europe/Berlin":20091208T230000
LOCATION:Kino\, Reichenhainer Str. 35/37\, Keller
SUMMARY:[Campuskino * "mittendrin"] Inglourious Basterds (filmclub »mittendrin«)
DESCRIPTION:Tarantino darf das! Warum? Weil er es kann! Das Dritte Reich als Spaghetti-Western in 5 Akten. Und Christoph Waltz (wirklich oscarverdächtig!) spielt alle an die Wand ...\nfilmclub@tu-chemnitz.de
ORGANIZER:MAILTO:robert.gerstenberger@s2004.tu-chemnitz.de
UID:11978@www.tu-chemnitz.de
CREATED:20091129T142500Z
DTSTAMP:20210802T193431Z
END:VEVENT
END:VCALENDAR
