BEGIN:VCALENDAR
VERSION:2.0
PRODID:TU Chemnitz
METHOD:PUBLISH
X-WR-CALNAME:Veranstaltungen der TU Chemnitz
X-WR-TIMEZONE:Europe/Berlin
BEGIN:VEVENT
CLASS:PUBLIC
DTSTART;TZID="Europe/Berlin":20091203T210000
DTEND;TZID="Europe/Berlin":20091203T230000
LOCATION:Kino\, Reichenhainer Str. 35/37\, Keller
SUMMARY:[Campuskino * "mittendrin"] Verblendung (filmclub »mittendrin«)
DESCRIPTION:In der Verfilmung von Stieg Larssons Kultkrimi steigen ein Journalist und eine Hackerin hinter ein grausames Familiengeheimnis. Eindrucksvoller Auftakt der Verfilmung der "Millenium"-Trilogie.\nfilmclub@tu-chemnitz.de
ORGANIZER:MAILTO:robert.gerstenberger@s2004.tu-chemnitz.de
UID:11977@www.tu-chemnitz.de
CREATED:20091129T142200Z
DTSTAMP:20210802T193427Z
END:VEVENT
END:VCALENDAR
