BEGIN:VCALENDAR
VERSION:2.0
PRODID:TU Chemnitz
METHOD:PUBLISH
X-WR-CALNAME:Veranstaltungen der TU Chemnitz
X-WR-TIMEZONE:Europe/Berlin
BEGIN:VEVENT
CLASS:PUBLIC
DTSTART;TZID="Europe/Berlin":20091214T153000
DTEND;TZID="Europe/Berlin":20091214T153000
LOCATION:Reichenhainer Str. 90\, Chemnitz (Zentr. Hörsaal- und Seminargebäude)
SUMMARY:Habilitationsverfahren (Fakultät für Maschinenbau)
DESCRIPTION:Probevorlesung: Eine Einführung in die Linearelastische Bruchmechanik (LEBM)\nDr.-Ing. Thorsten Halle\nkerstin.hensel@mb.tu-chemnitz.de
ORGANIZER:MAILTO:kerstin.hensel@mb.tu-chemnitz.de
UID:11966@www.tu-chemnitz.de
CREATED:20091124T153400Z
DTSTAMP:20210802T193430Z
END:VEVENT
END:VCALENDAR
