BEGIN:VCALENDAR
VERSION:2.0
PRODID:TU Chemnitz
METHOD:PUBLISH
X-WR-CALNAME:Veranstaltungen der TU Chemnitz
X-WR-TIMEZONE:Europe/Berlin
BEGIN:VEVENT
CLASS:PUBLIC
DTSTART;TZID="Europe/Berlin":20091125T173000
DTEND;TZID="Europe/Berlin":20091125T200000
LOCATION:Reichenhainer Str. 70\, Chemnitz (Weinhold-Bau)
SUMMARY:Von der Uni in den Chefsessel. Veranstaltung zur Unternehmensnachfolge in Klein- und Mittelständischen Unternehmen in Sachsen. (RCDS Chemnitz)
DESCRIPTION:Viele Unternehmen in Sachsen fehlen gegenwärtig geeignete Nachfolger. Absolventen aller Richtungen eröffnet sich eine besondere Karrierechance in der Selbständigkeit.\n\nGäste\n\nAndré Werner (AuL)\nRené Mann (BSW)\nWolfgang Höhnel (MIT)\n\nVortrag mit Diskussion\nArbeit und Leben Sachsen (AuL)\, Mittelstands- und Wirtschaftsvereinigung (MIT)\, Bildungswerk der sächischen Wirtschaft (BSW)\nNino Micklich (mnin@hrz.tu-chemnitz.de)
ORGANIZER:MAILTO:nino.micklich@s2007.tu-chemnitz.de
UID:11949@www.tu-chemnitz.de
CREATED:20091119T132900Z
DTSTAMP:20210802T193451Z
END:VEVENT
END:VCALENDAR
