BEGIN:VCALENDAR
VERSION:2.0
PRODID:TU Chemnitz
METHOD:PUBLISH
X-WR-CALNAME:Veranstaltungen der TU Chemnitz
X-WR-TIMEZONE:Europe/Berlin
BEGIN:VEVENT
CLASS:PUBLIC
DTSTART;TZID="Europe/Berlin":20000531T100000
DTEND;TZID="Europe/Berlin":20001026T180000
LOCATION:Uni-Teil 1: Str. der Nationen 62\, Chemnitz (Böttcher-Bau)
SUMMARY:EXPO 2000 - Neue Wege der Gesundheitsförderung (Philosophische Fakultät\, Sportwissenschaften III)
DESCRIPTION:Registriertes Projekt der Weltausstellung:\nGesunde Region Westsachsen\n\n\nFrau Haas\, Tel:037204/34111\, forschung-grw@tu-chemnitz.de
ORGANIZER:MAILTO:pemu@hrz.tu-chemnitz.de
UID:1193@www.tu-chemnitz.de
CREATED:20000605T160100Z
DTSTAMP:20210802T203012Z
END:VEVENT
END:VCALENDAR
