BEGIN:VCALENDAR
VERSION:2.0
PRODID:TU Chemnitz
METHOD:PUBLISH
X-WR-CALNAME:Veranstaltungen der TU Chemnitz
X-WR-TIMEZONE:Europe/Berlin
BEGIN:VEVENT
CLASS:PUBLIC
DTSTART;TZID="Europe/Berlin":20091125T100000
DTEND;TZID="Europe/Berlin":20091125T100000
LOCATION:Fraunhofer IWU\, Reichenhainer Str. 88\, Raum 130/131
SUMMARY:Promotion (Fakultät für Maschinenbau)
DESCRIPTION:Entwicklung und Simulation eines Verfahrens zum elektrochemischen Abtragen von Mikrogeometrien mit geschlossenem elektrolytischen Freistrahl\nDipl.-Phys. Matthias Hackert\nkerstin.hensel@mb.tu-chemnitz.de
ORGANIZER:MAILTO:kerstin.hensel@mb.tu-chemnitz.de
UID:11924@www.tu-chemnitz.de
CREATED:20091109T082400Z
DTSTAMP:20210802T193451Z
END:VEVENT
END:VCALENDAR
