BEGIN:VCALENDAR
VERSION:2.0
PRODID:TU Chemnitz
METHOD:PUBLISH
X-WR-CALNAME:Veranstaltungen der TU Chemnitz
X-WR-TIMEZONE:Europe/Berlin
BEGIN:VEVENT
CLASS:PUBLIC
DTSTART;TZID="Europe/Berlin":20091210T110000
DTEND;TZID="Europe/Berlin":20091210T120000
LOCATION:Thüringer Weg 3\, Zwergencampus
SUMMARY:Informationsveranstaltung für Studierende mit Kind (TU Chemnitz\, Projekt Familiengerechte Hochschule)
DESCRIPTION:Dr. Renate Wißuwa\nDr. Renate Wißuwa\,Tel. 531 31221 renate.wissuwa@verwaltung.tu-chemnitz.de
ORGANIZER:MAILTO:renate.wissuwa@verwaltung.tu-chemnitz.de
UID:11902@www.tu-chemnitz.de
CREATED:20091106T103000Z
DTSTAMP:20210802T193429Z
END:VEVENT
END:VCALENDAR
