BEGIN:VCALENDAR
VERSION:2.0
PRODID:TU Chemnitz
METHOD:PUBLISH
X-WR-CALNAME:Veranstaltungen der TU Chemnitz
X-WR-TIMEZONE:Europe/Berlin
BEGIN:VEVENT
CLASS:PUBLIC
DTSTART;TZID="Europe/Berlin":20091105T210000
DTEND;TZID="Europe/Berlin":20091105T230000
LOCATION:Kino\, Reichenhainer Str. 35/37\, Keller
SUMMARY:[Campuskino * "mittendrin"] LOL - Laughing Out Loud (filmclub »mittendrin«)
DESCRIPTION:"La Boum" war gestern - LOL ist heute: Teenager 2.0. Internet\, kiffen\, rauchen\, über Sex reden\, welchen haben\, streiten\, sich trennen und wieder versöhnen ... und der Star von damals als Mutter.\nfilmclub@tu-chemnitz.de
ORGANIZER:MAILTO:robert.gerstenberger@s2004.tu-chemnitz.de
UID:11891@www.tu-chemnitz.de
CREATED:20091103T181800Z
DTSTAMP:20210802T193451Z
END:VEVENT
END:VCALENDAR
