BEGIN:VCALENDAR
VERSION:2.0
PRODID:TU Chemnitz
METHOD:PUBLISH
X-WR-CALNAME:Veranstaltungen der TU Chemnitz
X-WR-TIMEZONE:Europe/Berlin
BEGIN:VEVENT
CLASS:PUBLIC
DTSTART;TZID="Europe/Berlin":20000629T160000
DTEND;TZID="Europe/Berlin":20000629T173000
LOCATION:Uni-Teil 3: Reichenhainer Str. 70\, Chemnitz (Rühlmann-Bau)
SUMMARY:Chemnitzer Mathematisches Colloquium (Fakultät für Mathematik)
DESCRIPTION:Thema: Stabilität von schnellen Algorithmen\nProf. Dr. G. Heinig\, Kuwait University
ORGANIZER:MAILTO:mma@hrz.tu-chemnitz.de
UID:1187@www.tu-chemnitz.de
CREATED:20000605T103900Z
DTSTAMP:20210802T202938Z
END:VEVENT
END:VCALENDAR
