BEGIN:VCALENDAR
VERSION:2.0
PRODID:TU Chemnitz
METHOD:PUBLISH
X-WR-CALNAME:Veranstaltungen der TU Chemnitz
X-WR-TIMEZONE:Europe/Berlin
BEGIN:VEVENT
CLASS:PUBLIC
DTSTART;TZID="Europe/Berlin":20000617T093000
DTEND;TZID="Europe/Berlin":20000617T140000
LOCATION:Uni-Teil 3: Reichenhainer Str. 70\, Chemnitz (Rühlmann-Bau)
SUMMARY:Schülerseminar Mathematik (Fakultät für Mathematik)
DESCRIPTION:Thema: Differentialgeometrie mit dem Computer\nThomas Grund\, Fakultät für Mathematik\, TU Chemnitz
ORGANIZER:MAILTO:mma@hrz.tu-chemnitz.de
UID:1185@www.tu-chemnitz.de
CREATED:20000605T102400Z
DTSTAMP:20210802T202937Z
END:VEVENT
END:VCALENDAR
