BEGIN:VCALENDAR
VERSION:2.0
PRODID:TU Chemnitz
METHOD:PUBLISH
X-WR-CALNAME:Veranstaltungen der TU Chemnitz
X-WR-TIMEZONE:Europe/Berlin
BEGIN:VEVENT
CLASS:PUBLIC
DTSTART;TZID="Europe/Berlin":20091110T171500
DTEND;TZID="Europe/Berlin":20091110T184500
LOCATION:Wilhelm-Raabe-Str. 43\, Chemnitz
SUMMARY:Institutskolloquium Psychologie (Fakultät für Human- und Sozialwissenschaften\, Institut für Psychologie)
DESCRIPTION:"Architekturpsychologie: Territorialität und Privatheit"\nProf. Dr. Peter Richter\, Universität Dresden\nProf. Dr. Lioba Werth
ORGANIZER:MAILTO:TU Chemnitz
UID:11847@www.tu-chemnitz.de
CREATED:20091022T133000Z
DTSTAMP:20210802T193452Z
END:VEVENT
END:VCALENDAR
