BEGIN:VCALENDAR
VERSION:2.0
PRODID:TU Chemnitz
METHOD:PUBLISH
X-WR-CALNAME:Veranstaltungen der TU Chemnitz
X-WR-TIMEZONE:Europe/Berlin
BEGIN:VEVENT
CLASS:PUBLIC
DTSTART;TZID="Europe/Berlin":20091126T160000
DTEND;TZID="Europe/Berlin":20091126T173000
LOCATION:Reichenhainer Str. 70\, Chemnitz (Rühlmann-Bau)
SUMMARY:Chemnitzer Mathematisches Colloquium (Fakultät für Mathematik)
DESCRIPTION:Prof. Dr. Dr. h.c. Frank Natterer\, Westfälische Wilhelms-Universität Münster\nThema: Rekonstruktionsverfahren in der Ultraschall-Tomographie
ORGANIZER:MAILTO:margit.matt@mathematik.tu-chemnitz.de
UID:11829@www.tu-chemnitz.de
CREATED:20091019T105100Z
DTSTAMP:20210802T193500Z
END:VEVENT
END:VCALENDAR
