BEGIN:VCALENDAR
VERSION:2.0
PRODID:TU Chemnitz
METHOD:PUBLISH
X-WR-CALNAME:Veranstaltungen der TU Chemnitz
X-WR-TIMEZONE:Europe/Berlin
BEGIN:VEVENT
CLASS:PUBLIC
DTSTART;TZID="Europe/Berlin":20001004T090000
DTEND;TZID="Europe/Berlin":20001006T130000
LOCATION:Uni-Teil 3: Reichenhainer Str. 70\, Chemnitz (Zentr. Hörsaal- und Seminargebäude)
SUMMARY:O-Phase 2000 des FSR WiWi (Fakultät für Wirtschaftswissenschaften\, Fachschaftsrat WiWi)
DESCRIPTION:Ersties\, die erst ab Donnerstag oder Freitag teilnehmen können\, melden sich bitte zur Anmeldung in unserem Büro (Rh 41 / 003).\n\n\nDer Fachschaftsrat hilft!\n\nfsrwiwi@tu-chemnitz.de
ORGANIZER:MAILTO:marck@hrz.tu-chemnitz.de
UID:1182@www.tu-chemnitz.de
CREATED:20000529T213100Z
DTSTAMP:20210802T202859Z
END:VEVENT
END:VCALENDAR
