BEGIN:VCALENDAR
VERSION:2.0
PRODID:TU Chemnitz
METHOD:PUBLISH
X-WR-CALNAME:Veranstaltungen der TU Chemnitz
X-WR-TIMEZONE:Europe/Berlin
BEGIN:VEVENT
CLASS:PUBLIC
DTSTART;TZID="Europe/Berlin":20091217T171500
DTEND;TZID="Europe/Berlin":20091217T184500
LOCATION:Reichenhainer Str. 90\, Chemnitz (Zentr. Hörsaal- und Seminargebäude)
SUMMARY:Recht für Gründer (Fakultät für Wirtschaftswissenschaften)
DESCRIPTION:Es werden rechtlichen Aspekte der Gründung besprochen\, typische Alltagsprobleme der neuen Unternehmung beleuchtet und der juristische Rahmen der Finanzbeschaffung im Wachstumsprozess erörtert.\nRA Gunnar Beck\ninfo@saxeed.net
ORGANIZER:MAILTO:claudia.kuechler@s2007.tu-chemnitz.de
UID:11816@www.tu-chemnitz.de
CREATED:20091016T112800Z
DTSTAMP:20210802T193434Z
END:VEVENT
END:VCALENDAR
