BEGIN:VCALENDAR
VERSION:2.0
PRODID:TU Chemnitz
METHOD:PUBLISH
X-WR-CALNAME:Veranstaltungen der TU Chemnitz
X-WR-TIMEZONE:Europe/Berlin
BEGIN:VEVENT
CLASS:PUBLIC
DTSTART;TZID="Europe/Berlin":20091128T090000
DTEND;TZID="Europe/Berlin":20091128T170000
LOCATION: 
SUMMARY:Ideen erfolgreich präsentieren und verkaufen (Fakultät für Wirtschaftswissenschaften)
DESCRIPTION:Wer im öffentlichen Blickfeld steht\, wird häufig gefordert\, mit Vorträgen\, Präsentationen von Arbeitsergebnissen und Projekten zu überzeugen. Im Workshop werden Sprechtechnik\, Sprachvermögen und Präsentationstechnik intensiv geschult.\nBernd Rohluff\ninfo@saxeed.net
ORGANIZER:MAILTO:claudia.kuechler@s2007.tu-chemnitz.de
UID:11776@www.tu-chemnitz.de
CREATED:20091014T161000Z
DTSTAMP:20210802T193453Z
END:VEVENT
END:VCALENDAR
