BEGIN:VCALENDAR
VERSION:2.0
PRODID:TU Chemnitz
METHOD:PUBLISH
X-WR-CALNAME:Veranstaltungen der TU Chemnitz
X-WR-TIMEZONE:Europe/Berlin
BEGIN:VEVENT
CLASS:PUBLIC
DTSTART;TZID="Europe/Berlin":20091127T090000
DTEND;TZID="Europe/Berlin":20091127T170000
LOCATION: 
SUMMARY:Grundlagen des Projektmanagements (Fakultät für Wirtschaftswissenschaften)
DESCRIPTION:Hauptaugenmerk des Workshops liegt auf den kritischen Erfolgsfaktoren des Projektmanagements sowie der Umgang mit Menschen im Projektteam. Weiterhin wird die grundsätzliche Herangehensweise bei der Projektplanung thematisiert.\nDr. Matthias Fuhrland\ninfo@saxeed.net
ORGANIZER:MAILTO:claudia.kuechler@s2007.tu-chemnitz.de
UID:11775@www.tu-chemnitz.de
CREATED:20091014T160800Z
DTSTAMP:20210802T193456Z
END:VEVENT
END:VCALENDAR
