BEGIN:VCALENDAR
VERSION:2.0
PRODID:TU Chemnitz
METHOD:PUBLISH
X-WR-CALNAME:Veranstaltungen der TU Chemnitz
X-WR-TIMEZONE:Europe/Berlin
BEGIN:VEVENT
CLASS:PUBLIC
DTSTART;TZID="Europe/Berlin":20100202T153000
DTEND;TZID="Europe/Berlin":20100202T170000
LOCATION:Reichenhainer Str. 70\, Chemnitz (Weinhold-Bau)
SUMMARY:Business-To-Business Marketing (Fakultät für Wirtschaftswissenschaften)
DESCRIPTION:Die Vorlesung thematisiert die theoretischen und praktischen Aspekte des Business-To-Business Marketing bezogen auf die Besonderheiten der Marktbearbeitung von Unternehmen aus Technologiesektoren.\nMarc Banaszak\ninfo@saxeed.net
ORGANIZER:MAILTO:claudia.kuechler@s2007.tu-chemnitz.de
UID:11772@www.tu-chemnitz.de
CREATED:20091014T150500Z
DTSTAMP:20210802T193344Z
END:VEVENT
END:VCALENDAR
