BEGIN:VCALENDAR
VERSION:2.0
PRODID:TU Chemnitz
METHOD:PUBLISH
X-WR-CALNAME:Veranstaltungen der TU Chemnitz
X-WR-TIMEZONE:Europe/Berlin
BEGIN:VEVENT
CLASS:PUBLIC
DTSTART;VALUE=DATE:20091111
DTEND;VALUE=DATE:20091111
LOCATION:Erfenschlager Str. 73\, Chemnitz
SUMMARY:SAXEED Ideenwettbewerb - Anmeldeschluss  (TU Chemnitz)
DESCRIPTION:Kreative Köpfe aufgepasst! Egal ob verrückt\, gewagt\, schräg oder auch völlig normal - der SAXEED-Ideenwettbewerb sucht Euch und Eure schicken Geschäftsideen!\n\nEinsendeschluss ist der 11.11.2009\nSusanne Schübel\, 0371.531.37689\, susanne.schuebel@saxeed.net
ORGANIZER:MAILTO:claudia.kuechler@s2007.tu-chemnitz.de
UID:11752@www.tu-chemnitz.de
CREATED:20091014T113500Z
DTSTAMP:20210802T193459Z
END:VEVENT
END:VCALENDAR
