BEGIN:VCALENDAR
VERSION:2.0
PRODID:TU Chemnitz
METHOD:PUBLISH
X-WR-CALNAME:Veranstaltungen der TU Chemnitz
X-WR-TIMEZONE:Europe/Berlin
BEGIN:VEVENT
CLASS:PUBLIC
DTSTART;TZID="Europe/Berlin":20091106T090000
DTEND;TZID="Europe/Berlin":20091106T190000
LOCATION:TU\, Altes Heizhaus\, Straße der Nationen 62 (im Innenhof)
SUMMARY:13. Politik- und Regionalwissenschaftliches Symposium. 20 Jahre nach der friedlichen Revolution: Wächst Europa zusammen? (TU Chemnitz\, Prof. Dr. Peter Jurczek\, Prof. Dr. Beate Neuss )
DESCRIPTION:Interdisziplinäre Fachtagung mit Konzentration auf die mittel- und osteuropäischen Staaten. Organisiert werden sie von der Professur Internationale Politik und der Professur Sozial- und Wirtschaftsgeographie.\nPeter Jurczek\, 0371 531-34911\, peter.jurczek@phil.tu-chemnitz.de
ORGANIZER:MAILTO:volker.trotte@s2008.tu-chemnitz.de
UID:11747@www.tu-chemnitz.de
CREATED:20091012T154900Z
DTSTAMP:20210802T193501Z
END:VEVENT
END:VCALENDAR
