BEGIN:VCALENDAR
VERSION:2.0
PRODID:TU Chemnitz
METHOD:PUBLISH
X-WR-CALNAME:Veranstaltungen der TU Chemnitz
X-WR-TIMEZONE:Europe/Berlin
BEGIN:VEVENT
CLASS:PUBLIC
DTSTART;TZID="Europe/Berlin":20091006T110000
DTEND;TZID="Europe/Berlin":20091006T150000
LOCATION:Reichenhainer Str. 55\, Chemnitz (Mensa)
SUMMARY: Chemnitz statt Campus (GETYOURPOLIS & Spätshop)
DESCRIPTION:Getyourpolis und die Initiative Spätshop holen eine Auswahl des kulturellen Lebens an den Campus. Es gibt Freikarten und Gutscheine für Veranstaltungen der beteiligten Clubs\, Szeneläden und aus gegebenen Anlass für das Filmfestival Schlingel.\nmarco.stahn@getyourpolis.com
ORGANIZER:MAILTO:marco.stahn@s2004.tu-chemnitz.de
UID:11710@www.tu-chemnitz.de
CREATED:20091005T114100Z
DTSTAMP:20210802T193519Z
END:VEVENT
END:VCALENDAR
