BEGIN:VCALENDAR
VERSION:2.0
PRODID:TU Chemnitz
METHOD:PUBLISH
X-WR-CALNAME:Veranstaltungen der TU Chemnitz
X-WR-TIMEZONE:Europe/Berlin
BEGIN:VEVENT
CLASS:PUBLIC
DTSTART;TZID="Europe/Berlin":20001018T173000
DTEND;TZID="Europe/Berlin":20001018T173000
LOCATION:Uni-Teil 3: Reichenhainer Str. 70\, Chemnitz (Zentr. Hörsaal- und Seminargebäude)
SUMMARY:Vortragsreihe Medizin im Spannungsfeld zwischen Wissenschaft und Gesellschaft: "Probleme der Organspende und Transplantation" (TU Chemnitz\, Klinikum Chemnitz gGmbH)
DESCRIPTION:OÄ Dr. med. Christiane Habeck\, Klinikum Chemnitz gGmbH\nPressestelle\, Tel 5 31-14 24
ORGANIZER:MAILTO:iroe@hrz.tu-chemnitz.de
UID:1171@www.tu-chemnitz.de
CREATED:20000526T123900Z
DTSTAMP:20210802T202902Z
END:VEVENT
END:VCALENDAR
