BEGIN:VCALENDAR
VERSION:2.0
PRODID:TU Chemnitz
METHOD:PUBLISH
X-WR-CALNAME:Veranstaltungen der TU Chemnitz
X-WR-TIMEZONE:Europe/Berlin
BEGIN:VEVENT
CLASS:PUBLIC
DTSTART;TZID="Europe/Berlin":20091007T203000
DTEND;TZID="Europe/Berlin":20091008T020000
LOCATION:Thüringer Weg 3
SUMMARY:Campus@Night (Club der Kulturen)
DESCRIPTION:für Kurzentschlossene: Jam Session.\n\nals Augenschmaus für zwischendurch tritt die Tanzgruppe "Locomotion Danceproject" auf.\n\nlasst euch überraschen!!!\nkatrin.ronneburger@gmx\,de
ORGANIZER:MAILTO:katrin.ronneburger@gmx.de
UID:11706@www.tu-chemnitz.de
CREATED:20091003T101200Z
DTSTAMP:20210802T193516Z
END:VEVENT
END:VCALENDAR
