BEGIN:VCALENDAR
VERSION:2.0
PRODID:TU Chemnitz
METHOD:PUBLISH
X-WR-CALNAME:Veranstaltungen der TU Chemnitz
X-WR-TIMEZONE:Europe/Berlin
BEGIN:VEVENT
CLASS:PUBLIC
DTSTART;TZID="Europe/Berlin":20000617T160000
DTEND;TZID="Europe/Berlin":20000617T170000
LOCATION:Renaissancesaal des Schloßbergmuseums
SUMMARY:Kostbarkeiten der Barockmusik (Philosophische Fakultät\, Fachgebiet Musik)
DESCRIPTION:Anläßlich des Bachjahres 2000 (gest. 1750) erklingen Werke von J. S. Bach\, A. Vivaldi und M. Marais.\nAusführende sind Studenten des Fachgebietes Musik.\nEintrittskarten zu 5.00 DM.
ORGANIZER:MAILTO:dsu@hrz.tu-chemnitz.de
UID:1170@www.tu-chemnitz.de
CREATED:20000525T134500Z
DTSTAMP:20210802T202937Z
END:VEVENT
END:VCALENDAR
