BEGIN:VCALENDAR
VERSION:2.0
PRODID:TU Chemnitz
METHOD:PUBLISH
X-WR-CALNAME:Veranstaltungen der TU Chemnitz
X-WR-TIMEZONE:Europe/Berlin
BEGIN:VEVENT
CLASS:PUBLIC
DTSTART;TZID="Europe/Berlin":20091115T103000
DTEND;TZID="Europe/Berlin":20091115T113000
LOCATION:Reichenhainer Str. 90\, Chemnitz (Zentr. Hörsaal- und Seminargebäude)
SUMMARY:Was ist eigentlich Politik? (TU Chemnitz\, Kinder-Uni Chemnitz)
DESCRIPTION:Prof. Dr. Gerd Strohmeier\nBrita Stingl\, 0371 531-13300\, kinderuni@tu-chemnitz.de
ORGANIZER:MAILTO:brita.stingl@c-mit.tu-chemnitz.de
UID:11669@www.tu-chemnitz.de
CREATED:20090928T155800Z
DTSTAMP:20210802T193452Z
END:VEVENT
END:VCALENDAR
