BEGIN:VCALENDAR
VERSION:2.0
PRODID:TU Chemnitz
METHOD:PUBLISH
X-WR-CALNAME:Veranstaltungen der TU Chemnitz
X-WR-TIMEZONE:Europe/Berlin
BEGIN:VEVENT
CLASS:PUBLIC
DTSTART;TZID="Europe/Berlin":20091115T170000
DTEND;TZID="Europe/Berlin":20091115T190000
LOCATION:St. Markuskirche
SUMMARY:Konzert des Universitätschores (TU Chemnitz\, Universitätschor)
DESCRIPTION:25 Jahre Universitätschor - Benefizkonzert für St. Markus\nEs erklingen Chorwerke aus 6 Jahrhunderten.\nOrgel:Ulrich Meier\nSprecher:Yves A. Pillep\nBlechbläser der Robert-Schumann-Philharmonie\nC. Seibt\,: c.seibt@phil.tu-chemnitz.de
ORGANIZER:MAILTO:conrad.seibt@phil.tu-chemnitz.de
UID:11627@www.tu-chemnitz.de
CREATED:20090917T162800Z
DTSTAMP:20210802T193459Z
END:VEVENT
END:VCALENDAR
