BEGIN:VCALENDAR
VERSION:2.0
PRODID:TU Chemnitz
METHOD:PUBLISH
X-WR-CALNAME:Veranstaltungen der TU Chemnitz
X-WR-TIMEZONE:Europe/Berlin
BEGIN:VEVENT
CLASS:PUBLIC
DTSTART;TZID="Europe/Berlin":20091203T160000
DTEND;TZID="Europe/Berlin":20091203T180000
LOCATION:Hörsaal 1/232 (Eingang Universitätsbibliothek\, Bahnhofstraße)
SUMMARY:GDCh-Kolloquium\, Prof. Dr. Gerd Ganteför\, Universität Konstanz\, Fachbereich Physik\, "Der Staub der Sterne: Grundlage des Lebens" (Fakultät für Naturwissenschaften\, Institut für Chemie zusammen mit der Gesellschaft Deutscher Chemiker (GDCh))
DESCRIPTION:Prof. Dr. Heinrich Lang\, 531-21210\, heinrich.lang@chemie.tu-chemnitz.de
ORGANIZER:MAILTO:sylvia.uhlmann@chemie.tu-chemnitz.de
UID:11624@www.tu-chemnitz.de
CREATED:20090915T121400Z
DTSTAMP:20210802T193430Z
END:VEVENT
END:VCALENDAR
