BEGIN:VCALENDAR
VERSION:2.0
PRODID:TU Chemnitz
METHOD:PUBLISH
X-WR-CALNAME:Veranstaltungen der TU Chemnitz
X-WR-TIMEZONE:Europe/Berlin
BEGIN:VEVENT
CLASS:PUBLIC
DTSTART;TZID="Europe/Berlin":20090909T090000
DTEND;TZID="Europe/Berlin":20090910T180000
LOCATION:Reichenhainer Str. 90\, Chemnitz (Zentr. Hörsaal- und Seminargebäude)
SUMMARY:Symposium 'public health and sports' (Philosophische Fakultät\, Institut für Sportwissenschaft)
DESCRIPTION:Wir veranstalten außerdem am 08. September ab 17.30 Uhr ein Barbecue und sportliche Aktivitäten auf dem Sportplatz.Aufgrund der Planung bitten wir um vorherige kurze Anmeldung für das Barbecue bei: nadine(dot)wirth(at)s2005(dot)tu-chemnitz(dot)de\nPeter Wright\, TU Chemnitz\nPeter Wright\, 0371/53135590
ORGANIZER:MAILTO:susann.bombor@s2006.tu-chemnitz.de
UID:11606@www.tu-chemnitz.de
CREATED:20090827T123300Z
DTSTAMP:20210802T193541Z
END:VEVENT
END:VCALENDAR
