BEGIN:VCALENDAR
VERSION:2.0
PRODID:TU Chemnitz
METHOD:PUBLISH
X-WR-CALNAME:Veranstaltungen der TU Chemnitz
X-WR-TIMEZONE:Europe/Berlin
BEGIN:VEVENT
CLASS:PUBLIC
DTSTART;TZID="Europe/Berlin":20091012T190000
DTEND;TZID="Europe/Berlin":20091012T203000
LOCATION:St. Petrikirche am Theaterplatz
SUMMARY:Ökumenischer Semesteranfangsgottesdienst (Veranstaltet von ESG\, KSG\, CfC\, SMD)
DESCRIPTION:Zum Semesterbeginn findet heute ein ökumenischer Gottesdienst zum Thema "Bin ich hier richtig" statt.\nESG\, KSG\, CfC\, SMD
ORGANIZER:MAILTO:carmen.schulz@verwaltung.tu-chemnitz.de
UID:11604@www.tu-chemnitz.de
CREATED:20090818T195800Z
DTSTAMP:20210802T193516Z
END:VEVENT
END:VCALENDAR
