BEGIN:VCALENDAR
VERSION:2.0
PRODID:TU Chemnitz
METHOD:PUBLISH
X-WR-CALNAME:Veranstaltungen der TU Chemnitz
X-WR-TIMEZONE:Europe/Berlin
BEGIN:VEVENT
CLASS:PUBLIC
DTSTART;TZID="Europe/Berlin":20090817T080000
DTEND;TZID="Europe/Berlin":20090817T120000
LOCATION:Reichenhainer Str. 35/37\, Chemnitz (Studentenwohnheim)
SUMMARY:Hardrock und Metal Abend (TU Chemnitz)
DESCRIPTION:Schon lange keinen Hardrock mehr gehört\, oder liegt das letzte Festival schon wieder so lang zurück\, dann habt ihr Mittwoch nochmal die Chance dieser Musikrichtung bei uns im Club zu frönen.\nPEB Studentenkeller
ORGANIZER:MAILTO:pierre.grzona@s2006.tu-chemnitz.de
UID:11602@www.tu-chemnitz.de
CREATED:20090817T130500Z
DTSTAMP:20210802T193558Z
END:VEVENT
END:VCALENDAR
